Workbook

Sheet Foglio1
A1: CCNL SCUOLA CALCOLO ARRETRATI
X2: 0 | Z2: COLLABORATORI SCOLASTICI KA01
A3: DOCENTI SCUOLA INFANZIA E PRIMARIA KA05 | X3: 9 | Z3: DOCENTI SCUOLA INFANZIA E PRIMARIA KA05
X4: 15 | Z4: DOCENTI SCUOLA SECONDARIA I GRADO KA07
A5: FASCIA | G5: 35 | I5: ARRETRATI | X5: 21 | Z5: DOCENTI SCUOLA SECONDARIA II GRADO KA08
X6: 28
A7: ALIQUOTA MEDIA | G7: 23 | I7: ='ka01'!J32*(100-Foglio1!G7)/100 -> 1012.2951 | X7: 35
A9: ALIQUOTA MASSIMA | G9: 35 | I9: ='ka01'!K32*(100-Foglio1!G9)/100 -> 569.39345
A11: TOTALE ARRETRATI | I11: =I7+I9 -> 1581.6886
A14: VERSIONE 4.01
A15: 1) SCEGLIERE DAL MENU A TENDINA LA QUALIFICA
A16: 2) SCEGLIERE DAL MENU A TENDINA LA FASCIA
A17: 3) INSERIRE LE ALIQUOTE RIPORTATE NEL CEDOLINO

Sheet ka01
B1: 43466 | C1: 2020 | D1: 2021 | E1: 2022 | F1: AP | G1: AC | H1: PREV | I1: PREV | J1: IMP | K1: IMP | L1: MEDIA | M1: MAX | N1: MEDIA | O1: MAX | P1: CIA | Q1: IMP | R1: NETTO | S1: NETTISSIMO | T1: MEIDA | U1: MAX
A2: KA01 | B2: 12 | C2: 22.1 | D2: 49 | E2: 49 | F2: =(B2+C2+D2)*13-5.44*3-9.06*7-9.06*26 -> 765 | G2: =E2*13-9.06*13 -> 519.22 | H2: =F2*11.15% -> 85.2975 | I2: =G2*11.15% -> 57.89303 | J2: =F2-H2 -> 679.7025 | K2: =G2-I2 -> 461.32697 | L2: 23 | M2: 25 | N2: =J2*(100-L2)/100 -> 523.37092 | O2: =K2*(100-M2)/100 -> 345.99523 | P2: =5.8*12 -> 69.6 | Q2: =P2*(100-9.15)/100 -> 63.2316 | R2: =Q2*(100-M2)/100 -> 47.4237 | S2: =N2+O2+R2 -> 916.78985 | T2: =IF(Foglio1!$G$5=0,'ka01'!J2,0) -> 0 | U2: =IF(Foglio1!$G$5=0,'ka01'!K2,0) -> 0
A3: 9 | B3: 13.1 | C3: 24.1 | D3: 53 | E3: =D3 -> 53 | F3: =(B3+C3+D3)*13-5.92*3-9.87*7-9.87*26 -> 829.13 | G3: =E3*13-9.87*13 -> 560.69 | H3: =F3*11.15% -> 92.447995 | I3: =G3*11.15% -> 62.516935 | J3: =F3-H3 -> 736.68201 | K3: =G3-I3 -> 498.17307 | L3: 23.4 | M3: 25 | N3: =J3*(100-L3)/100 -> 564.29842 | O3: =K3*(100-M3)/100 -> 373.6298 | P3: =5.8*12 -> 69.6 | Q3: =P3*(100-9.15)/100 -> 63.2316 | R3: =Q3*(100-M3)/100 -> 47.4237 | S3: =N3+O3+R3 -> 985.35191 | T3: =IF(Foglio1!$G$5=9,'ka01'!J3,0) -> 0 | U3: =IF(Foglio1!$G$5=9,'ka01'!K3,0) -> 0
A4: 15 | B4: 13.9 | C4: 25.6 | D4: 56 | E4: =D4 -> 56 | F4: =(B4+C4+D4)*13-6.28*3-10.46*7-10.46*26 -> 877.48 | G4: =E4*13-10.46*13 -> 592.02 | H4: =F4*11.15% -> 97.83902 | I4: =G4*11.15% -> 66.01023 | J4: =F4-H4 -> 779.64098 | K4: =G4-I4 -> 526.00977 | L4: 23.4 | M4: 25 | N4: =J4*(100-L4)/100 -> 597.20499 | O4: =K4*(100-M4)/100 -> 394.50733 | P4: =5.8*12 -> 69.6 | Q4: =P4*(100-9.15)/100 -> 63.2316 | R4: =Q4*(100-M4)/100 -> 47.4237 | S4: =N4+O4+R4 -> 1039.136 | T4: =IF(Foglio1!$G$5=15,'ka01'!J4,0) -> 0 | U4: =IF(Foglio1!$G$5=15,'ka01'!K4,0) -> 0
A5: 21 | B5: 14.6 | C5: 27 | D5: 60 | E5: =D5 -> 60 | F5: =(B5+C5+D5)*13-6.62*3-11.04*7-11.04*26 -> 936.62 | G5: =E5*13-11.04*13 -> 636.48 | H5: =F5*11.15% -> 104.43313 | I5: =G5*11.15% -> 70.96752 | J5: =F5-H5 -> 832.18687 | K5: =G5-I5 -> 565.51248 | L5: 23.4 | M5: 25 | N5: =J5*(100-L5)/100 -> 637.45514 | O5: =K5*(100-M5)/100 -> 424.13436 | P5: =5.8*12 -> 69.6 | Q5: =P5*(100-9.15)/100 -> 63.2316 | R5: =Q5*(100-M5)/100 -> 47.4237 | S5: =N5+O5+R5 -> 1109.0132 | T5: =IF(Foglio1!$G$5=21,'ka01'!J5,0) -> 0 | U5: =IF(Foglio1!$G$5=21,'ka01'!K5,0) -> 0
A6: 28 | B6: 15.2 | C6: 28 | D6: 62 | E6: =D6 -> 62 | F6: =(B6+C6+D6)*13-6.89*3-11.48*7-11.48*26 -> 968.09 | G6: =E6*13-11.48*13 -> 656.76 | H6: =F6*11.15% -> 107.94204 | I6: =G6*11.15% -> 73.22874 | J6: =F6-H6 -> 860.14797 | K6: =G6-I6 -> 583.53126 | L6: 23.4 | M6: 25 | N6: =J6*(100-L6)/100 -> 658.87334 | O6: =K6*(100-M6)/100 -> 437.64844 | P6: =5.8*12 -> 69.6 | Q6: =P6*(100-9.15)/100 -> 63.2316 | R6: =Q6*(100-M6)/100 -> 47.4237 | S6: =N6+O6+R6 -> 1143.9455 | T6: =IF(Foglio1!$G$5=28,'ka01'!J6,0) -> 0 | U6: =IF(Foglio1!$G$5=28,'ka01'!K6,0) -> 0
A7: 35 | B7: 15.6 | C7: 28.8 | D7: 64 | E7: =D7 -> 64 | F7: =(B7+C7+D7)*13-7.07*3-11.79*7-11.79*26 -> 998.92 | G7: =E7*13-11.79*13 -> 678.73 | H7: =F7*11.15% -> 111.37958 | I7: =G7*11.15% -> 75.678395 | J7: =F7-H7 -> 887.54042 | K7: =G7-I7 -> 603.0516 | L7: 23.4 | M7: 25 | N7: =J7*(100-L7)/100 -> 679.85596 | O7: =K7*(100-M7)/100 -> 452.2887 | P7: =5.8*12 -> 69.6 | Q7: =P7*(100-9.15)/100 -> 63.2316 | R7: =Q7*(100-M7)/100 -> 47.4237 | S7: =N7+O7+R7 -> 1179.5684 | T7: =IF(Foglio1!$G$5=35,'ka01'!J7,0) -> 887.54042 | U7: =IF(Foglio1!$G$5=35,'ka01'!K7,0) -> 603.0516
T8: =SUM(T2:T7) -> 887.54042 | U8: =SUM(U2:U7) -> 603.0516
B11: 2019 | C11: CONTRI | D11: IMPN | E11: ALIQUOTA | F11: IRPEF | G11: NETTO
A12: 0 | B12: =B2*13 -> 156 | C12: =B12*11.15/100 -> 17.394 | D12: =B12-C12 -> 138.606 | E12: =L2 -> 23 | F12: =D12*E12/100 -> 31.87938 | G12: =D12-F12 -> 106.72662 | M12: =54.8*13 -> 712.4
A13: 9 | B13: =B3*13 -> 170.3 | C13: =B13*11.15/100 -> 18.98845 | D13: =B13-C13 -> 151.31155 | E13: =L3 -> 23.4 | F13: =D13*E13/100 -> 35.406903 | G13: =D13-F13 -> 115.90465 | M13: =49*13 -> 637
A14: 15 | B14: =B4*13 -> 180.7 | C14: =B14*11.15/100 -> 20.14805 | D14: =B14-C14 -> 160.55195 | E14: =L4 -> 23.4 | F14: =D14*E14/100 -> 37.569156 | G14: =D14-F14 -> 122.98279 | M14: =22.1*13 -> 287.3
A15: 21 | B15: =B5*13 -> 189.8 | C15: =B15*11.15/100 -> 21.1627 | D15: =B15-C15 -> 168.6373 | E15: =L5 -> 23.4 | F15: =D15*E15/100 -> 39.461128 | G15: =D15-F15 -> 129.17617 | M15: =12*13 -> 156
A16: 28 | B16: =B6*13 -> 197.6 | C16: =B16*11.15/100 -> 22.0324 | D16: =B16-C16 -> 175.5676 | E16: =L6 -> 23.4 | F16: =D16*E16/100 -> 41.082818 | G16: =D16-F16 -> 134.48478 | M16: =M12+M13+M14+M15 -> 1792.7
A17: 35 | B17: =B7*13 -> 202.8 | C17: =B17*11.15/100 -> 22.6122 | D17: =B17-C17 -> 180.1878 | E17: =L7 -> 23.4 | F17: =D17*E17/100 -> 42.163945 | G17: =D17-F17 -> 138.02385 | M17: =M16*24% -> 430.248
M18: =M16-M17 -> 1362.452
B19: 2020 | C19: CONTRI | D19: IMPN | E19: ALIQUOTA | F19: IRPEF | G19: NETTO
A20: 0 | B20: =C2*13 -> 287.3 | C20: =B20*11.15/100 -> 32.03395 | D20: =B20-C20 -> 255.26605 | E20: =E12 -> 23 | F20: =D20*E20/100 -> 58.711192 | G20: =D20-F20 -> 196.55486
A21: 9 | B21: =C3*13 -> 313.3 | C21: =B21*11.15/100 -> 34.93295 | D21: =B21-C21 -> 278.36705 | E21: =E13 -> 23.4 | F21: =D21*E21/100 -> 65.13789 | G21: =D21-F21 -> 213.22916
A22: 15 | B22: =C4*13 -> 332.8 | C22: =B22*11.15/100 -> 37.1072 | D22: =B22-C22 -> 295.6928 | E22: =E14 -> 23.4 | F22: =D22*E22/100 -> 69.192115 | G22: =D22-F22 -> 226.50068
A23: 21 | B23: =C5*13 -> 351 | C23: =B23*11.15/100 -> 39.1365 | D23: =B23-C23 -> 311.8635 | E23: =E15 -> 23.4 | F23: =D23*E23/100 -> 72.976059 | G23: =D23-F23 -> 238.88744 | I23: COLLABORATORI SCOLASTICI KA01
A24: 28 | B24: =C6*13 -> 364 | C24: =B24*11.15/100 -> 40.586 | D24: =B24-C24 -> 323.414 | E24: =E16 -> 23.4 | F24: =D24*E24/100 -> 75.678876 | G24: =D24-F24 -> 247.73512
A25: 35 | B25: =C7*13 -> 374.4 | C25: =B25*11.15/100 -> 41.7456 | D25: =B25-C25 -> 332.6544 | E25: =E17 -> 23.4 | F25: =D25*E25/100 -> 77.84113 | G25: =D25-F25 -> 254.81327
I26: =IF(Foglio1!A3='ka01'!I23,1,0) -> 0 | J26: =T8*I26 -> 0 | K26: =U8*I26 -> 0
B27: 2020 | C27: CONTRI | D27: IMPN | E27: ALIQUOTA | F27: IRPEF | G27: NETTO | J27: ='KA05'!J26 -> 1314.669 | K27: ='KA05'!K26 -> 875.98992
A28: 0 | B28: =D2*13 -> 637 | C28: =B28*11.15/100 -> 71.0255 | D28: =B28-C28 -> 565.9745 | E28: =E20 -> 23 | F28: =D28*E28/100 -> 130.17414 | G28: =D28-F28 -> 435.80037 | J28: ='KA08'!$J$26 -> 0 | K28: ='KA08'!$K$26 -> 0
A29: 9 | B29: =D3*13 -> 689 | C29: =B29*11.15/100 -> 76.8235 | D29: =B29-C29 -> 612.1765 | E29: =E21 -> 23.4 | F29: =D29*E29/100 -> 143.2493 | G29: =D29-F29 -> 468.9272 | J29: ='KA07'!$J$26 -> 0 | K29: ='KA07'!$K$26 -> 0
A30: 15 | B30: =D4*13 -> 728 | C30: =B30*11.15/100 -> 81.172 | D30: =B30-C30 -> 646.828 | E30: =E22 -> 23.4 | F30: =D30*E30/100 -> 151.35775 | G30: =D30-F30 -> 495.47025
A31: 21 | B31: =D5*13 -> 780 | C31: =B31*11.15/100 -> 86.97 | D31: =B31-C31 -> 693.03 | E31: =E23 -> 23.4 | F31: =D31*E31/100 -> 162.16902 | G31: =D31-F31 -> 530.86098
A32: 28 | B32: =D6*13 -> 806 | C32: =B32*11.15/100 -> 89.869 | D32: =B32-C32 -> 716.131 | E32: =E24 -> 23.4 | F32: =D32*E32/100 -> 167.57465 | G32: =D32-F32 -> 548.55635 | J32: =SUM(J26:J30) -> 1314.669 | K32: =SUM(K26:K30) -> 875.98992
A33: 35 | B33: =D7*13 -> 832 | C33: =B33*11.15/100 -> 92.768 | D33: =B33-C33 -> 739.232 | E33: =E25 -> 23.4 | F33: =D33*E33/100 -> 172.98029 | G33: =D33-F33 -> 566.25171
B35: 2021 | C35: CONTRI | D35: IMPN | E35: ALIQUOTA | F35: IRPEF | G35: NETTO
A36: 0 | B36: =B28 -> 637 | C36: =B36*11.15/100 -> 71.0255 | D36: =B36-C36 -> 565.9745 | E36: 25 | F36: =D36*E36/100 -> 141.49363 | G36: =D36-F36+R2 -> 471.90458
A37: 9 | B37: =B29 -> 689 | C37: =B37*11.15/100 -> 76.8235 | D37: =B37-C37 -> 612.1765 | E37: 25 | F37: =D37*E37/100 -> 153.04413 | G37: =D37-F37+R3 -> 506.55608
A38: 15 | B38: =B30 -> 728 | C38: =B38*11.15/100 -> 81.172 | D38: =B38-C38 -> 646.828 | E38: 25 | F38: =D38*E38/100 -> 161.707 | G38: =D38-F38+R4 -> 532.5447
A39: 21 | B39: =B31 -> 780 | C39: =B39*11.15/100 -> 86.97 | D39: =B39-C39 -> 693.03 | E39: 25 | F39: =D39*E39/100 -> 173.2575 | G39: =D39-F39+R5 -> 567.1962
A40: 28 | B40: =B32 -> 806 | C40: =B40*11.15/100 -> 89.869 | D40: =B40-C40 -> 716.131 | E40: 25 | F40: =D40*E40/100 -> 179.03275 | G40: =D40-F40+R6 -> 584.52195
A41: 35 | B41: =B33 -> 832 | C41: =B41*11.15/100 -> 92.768 | D41: =B41-C41 -> 739.232 | E41: 25 | F41: =D41*E41/100 -> 184.808 | G41: =D41-F41+R7 -> 601.8477

Sheet KA05
B1: 2019 | C1: 2020 | D1: 2021 | E1: 2022 | F1: AP | G1: AC | H1: PREV | I1: PREV | J1: IMP | K1: IMP | L1: MEDIA | M1: MAX | N1: MEDIA | O1: MAX | P1: RPD | Q1: IMP | R1: NETTO | S1: NETTISSIMO | T1: MEIDA | U1: MAX
A2: KA05 | B2: 15.6 | C2: 28.7 | D2: 63 | E2: 63 | F2: =(B2+C2+D2)*13-7.05*3-11.75*33 -> 986 | G2: =E2*13-11.75*13 -> 666.25 | H2: =F2*11.15% -> 109.939 | I2: =G2*11.15% -> 74.286875 | J2: =F2-H2 -> 876.061 | K2: =G2-I2 -> 591.96312 | L2: 24 | M2: 25 | N2: =J2*(100-L2)/100 -> 665.80636 | O2: =K2*(100-M2)/100 -> 443.97234 | P2: =10*12 -> 120 | Q2: =P2*(100-9.15)/100 -> 109.02 | R2: =Q2*(100-M2)/100 -> 81.765 | S2: =N2+O2+R2 -> 1191.5437 | T2: =IF(Foglio1!$G$5=0,'KA05'!J2,0) -> 0 | U2: =IF(Foglio1!$G$5=0,'KA05'!K2,0) -> 0
A3: 9 | B3: 17.3 | C3: 31.9 | D3: 70 | E3: =D3 -> 70 | F3: =(B3+C3+D3)*13-7.82*3-13.03*33 -> 1096.15 | G3: =E3*13-13.03*13 -> 740.61 | H3: =F3*11.15% -> 122.22073 | I3: =G3*11.15% -> 82.578015 | J3: =F3-H3 -> 973.92928 | K3: =G3-I3 -> 658.03198 | L3: 24 | M3: 25 | N3: =J3*(100-L3)/100 -> 740.18625 | O3: =K3*(100-M3)/100 -> 493.52399 | P3: =10*12 -> 120 | Q3: =P3*(100-9.15)/100 -> 109.02 | R3: =Q3*(100-M3)/100 -> 81.765 | S3: =N3+O3+R3 -> 1315.4752 | T3: =IF(Foglio1!$G$5=9,'KA05'!J3,0) -> 0 | U3: =IF(Foglio1!$G$5=9,'KA05'!K3,0) -> 0
A4: 15 | B4: 18.8 | C4: 34.6 | D4: 77 | E4: =D4 -> 77 | F4: =(B4+C4+D4)*13-8.5*3-14.16*33 -> 1202.42 | G4: =E4*13-14.16*13 -> 816.92 | H4: =F4*11.15% -> 134.06983 | I4: =G4*11.15% -> 91.08658 | J4: =F4-H4 -> 1068.3502 | K4: =G4-I4 -> 725.83342 | L4: 24 | M4: 25 | N4: =J4*(100-L4)/100 -> 811.94613 | O4: =K4*(100-M4)/100 -> 544.37506 | P4: =12*12 -> 144 | Q4: =P4*(100-9.15)/100 -> 130.824 | R4: =Q4*(100-M4)/100 -> 98.118 | S4: =N4+O4+R4 -> 1454.4392 | T4: =IF(Foglio1!$G$5=15,'KA05'!J4,0) -> 0 | U4: =IF(Foglio1!$G$5=15,'KA05'!K4,0) -> 0
A5: 21 | B5: 20.3 | C5: 37.3 | D5: 83 | E5: =D5 -> 83 | F5: =(B5+C5+D5)*13-9.16*3-15.27*33 -> 1296.41 | G5: =E5*13-15.27*13 -> 880.49 | H5: =F5*11.15% -> 144.54971 | I5: =G5*11.15% -> 98.174635 | J5: =F5-H5 -> 1151.8603 | K5: =G5-I5 -> 782.31537 | L5: 24 | M5: 25 | N5: =J5*(100-L5)/100 -> 875.41382 | O5: =K5*(100-M5)/100 -> 586.73652 | P5: =12*12 -> 144 | Q5: =P5*(100-9.15)/100 -> 130.824 | R5: =Q5*(100-M5)/100 -> 98.118 | S5: =N5+O5+R5 -> 1560.2683 | T5: =IF(Foglio1!$G$5=21,'KA05'!J5,0) -> 0 | U5: =IF(Foglio1!$G$5=21,'KA05'!K5,0) -> 0
A6: 28 | B6: 21.7 | C6: 40 | D6: 89 | E6: =D6 -> 89 | F6: =(B6+C6+D6)*13-9.81*3-16.35*33 -> 1390.12 | G6: =E6*13-15.35*13 -> 957.45 | H6: =F6*11.15% -> 154.99838 | I6: =G6*11.15% -> 106.75568 | J6: =F6-H6 -> 1235.1216 | K6: =G6-I6 -> 850.69433 | L6: 25.18 | M6: 35 | N6: =J6*(100-L6)/100 -> 924.118 | O6: =K6*(100-M6)/100 -> 552.95131 | P6: =15*12 -> 180 | Q6: =P6*(100-9.15)/100 -> 163.53 | R6: =Q6*(100-M6)/100 -> 106.2945 | S6: =N6+O6+R6 -> 1583.3638 | T6: =IF(Foglio1!$G$5=28,'KA05'!J6,0) -> 0 | U6: =IF(Foglio1!$G$5=28,'KA05'!K6,0) -> 0
A7: 35 | B7: 22.8 | C7: 41.9 | D7: 93 | E7: =D7 -> 93 | F7: =(B7+C7+D7)*13-10.3*3-16.35*33 -> 1479.65 | G7: =E7*13-17.16*13 -> 985.92 | H7: =F7*11.15% -> 164.98097 | I7: =G7*11.15% -> 109.93008 | J7: =F7-H7 -> 1314.669 | K7: =G7-I7 -> 875.98992 | L7: 25.18 | M7: 35 | N7: =J7*(100-L7)/100 -> 983.63536 | O7: =K7*(100-M7)/100 -> 569.39345 | P7: =15*12 -> 180 | Q7: =P7*(100-9.15)/100 -> 163.53 | R7: =Q7*(100-M7)/100 -> 106.2945 | S7: =N7+O7+R7 -> 1659.3233 | T7: =IF(Foglio1!$G$5=35,'KA05'!J7,0) -> 1314.669 | U7: =IF(Foglio1!$G$5=35,'KA05'!K7,0) -> 875.98992
T8: =SUM(T2:T7) -> 1314.669 | U8: =SUM(U2:U7) -> 875.98992
I23: DOCENTI SCUOLA INFANZIA E PRIMARIA KA05
I26: =IF(Foglio1!A3='KA05'!I23,1,0) -> 1 | J26: =T8*I26 -> 1314.669 | K26: =U8*I26 -> 875.98992

Sheet KA07
B1: 2019 | C1: 2020 | D1: 2021 | E1: 2022 | F1: AP | G1: AC | H1: PREV | I1: PREV | J1: IMP | K1: IMP | L1: MEDIA | M1: MAX | N1: MEDIA | O1: MAX | P1: RPD | Q1: IMP | R1: NETTO | S1: NETTISSIMO | T1: MEIDA | U1: MAX
A2: KA07 | B2: 16.9 | C2: 31.1 | D2: 69 | E2: =D2 -> 69 | F2: =(B2+C2+D2)*13-7.65*3-12.75*33 -> 1077.3 | G2: =E2*13-12.75*13 -> 731.25 | H2: =F2*11.15% -> 120.11895 | I2: =G2*11.15% -> 81.534375 | J2: =F2-H2 -> 957.18105 | K2: =G2-I2 -> 649.71563 | L2: 24 | M2: 25 | N2: =J2*(100-L2)/100 -> 727.4576 | O2: =K2*(100-M2)/100 -> 487.28672 | P2: =10*12 -> 120 | Q2: =P2*(100-9.15)/100 -> 109.02 | R2: =Q2*(100-M2)/100 -> 81.765 | S2: =N2+O2+R2 -> 1296.5093 | T2: =IF(Foglio1!$G$5=0,'KA07'!J2,0) -> 0 | U2: =IF(Foglio1!$G$5=0,'KA07'!K2,0) -> 0
A3: 9 | B3: 18.9 | C3: 34.8 | D3: 77 | E3: =D3 -> 77 | F3: =(B3+C3+D3)*13-8.55*3-14.24*33 -> 1203.53 | G3: =E3*13-14.24*13 -> 815.88 | H3: =F3*11.15% -> 134.19359 | I3: =G3*11.15% -> 90.97062 | J3: =F3-H3 -> 1069.3364 | K3: =G3-I3 -> 724.90938 | L3: 24 | M3: 25 | N3: =J3*(100-L3)/100 -> 812.69567 | O3: =K3*(100-M3)/100 -> 543.68204 | P3: =10*12 -> 120 | Q3: =P3*(100-9.15)/100 -> 109.02 | R3: =Q3*(100-M3)/100 -> 81.765 | S3: =N3+O3+R3 -> 1438.1427 | T3: =IF(Foglio1!$G$5=9,'KA07'!J3,0) -> 0 | U3: =IF(Foglio1!$G$5=9,'KA07'!K3,0) -> 0
A4: 15 | B4: 20.6 | C4: 38 | D4: 77 | E4: 84 | F4: =(B4+C4+D4)*13-9.33*3-15.56*33 -> 1221.33 | G4: =E4*13-15.56*13 -> 889.72 | H4: =F4*11.15% -> 136.17829 | I4: =G4*11.15% -> 99.20378 | J4: =F4-H4 -> 1085.1517 | K4: =G4-I4 -> 790.51622 | L4: 24 | M4: 25 | N4: =J4*(100-L4)/100 -> 824.7153 | O4: =K4*(100-M4)/100 -> 592.88716 | P4: =12*12 -> 144 | Q4: =P4*(100-9.15)/100 -> 130.824 | R4: =Q4*(100-M4)/100 -> 98.118 | S4: =N4+O4+R4 -> 1515.7205 | T4: =IF(Foglio1!$G$5=15,'KA07'!J4,0) -> 0 | U4: =IF(Foglio1!$G$5=15,'KA07'!K4,0) -> 0
A5: 21 | B5: 22.3 | C5: 41.1 | D5: 77 | E5: 91 | F5: =(B5+C5+D5)*13-10.1*3-16.83*33 -> 1239.51 | G5: =E5*13-16.83*13 -> 964.21 | H5: =F5*11.15% -> 138.20537 | I5: =G5*11.15% -> 107.50942 | J5: =F5-H5 -> 1101.3046 | K5: =G5-I5 -> 856.70059 | L5: 24.5 | M5: 25 | N5: =J5*(100-L5)/100 -> 831.485 | O5: =K5*(100-M5)/100 -> 642.52544 | P5: =12*12 -> 144 | Q5: =P5*(100-9.15)/100 -> 130.824 | R5: =Q5*(100-M5)/100 -> 98.118 | S5: =N5+O5+R5 -> 1572.1284 | T5: =IF(Foglio1!$G$5=21,'KA07'!J5,0) -> 0 | U5: =IF(Foglio1!$G$5=21,'KA07'!K5,0) -> 0
A6: 28 | B6: 24 | C6: 44.2 | D6: 77 | E6: 98 | F6: =(B6+C6+D6)*13-10.85*3-18.09*33 -> 1258.08 | G6: =E6*13-18.09*13 -> 1038.83 | H6: =F6*11.15% -> 140.27592 | I6: =G6*11.15% -> 115.82954 | J6: =F6-H6 -> 1117.8041 | K6: =G6-I6 -> 923.00045 | L6: 25.18 | M6: 35 | N6: =J6*(100-L6)/100 -> 836.34101 | O6: =K6*(100-M6)/100 -> 599.9503 | P6: =15*12 -> 180 | Q6: =P6*(100-9.15)/100 -> 163.53 | R6: =Q6*(100-M6)/100 -> 106.2945 | S6: =N6+O6+R6 -> 1542.5858 | T6: =IF(Foglio1!$G$5=28,'KA07'!J6,0) -> 0 | U6: =IF(Foglio1!$G$5=28,'KA07'!K6,0) -> 0
A7: 35 | B7: 25.2 | C7: 46.5 | D7: 77 | E7: 103 | F7: =(B7+C7+D7)*13-11.41*3-19.02*33 -> 1271.21 | G7: =E7*13-19.02*13 -> 1091.74 | H7: =F7*11.15% -> 141.73991 | I7: =G7*11.15% -> 121.72901 | J7: =F7-H7 -> 1129.4701 | K7: =G7-I7 -> 970.01099 | L7: 25.18 | M7: 35 | N7: =J7*(100-L7)/100 -> 845.06952 | O7: =K7*(100-M7)/100 -> 630.50714 | P7: =15*12 -> 180 | Q7: =P7*(100-9.15)/100 -> 163.53 | R7: =Q7*(100-M7)/100 -> 106.2945 | S7: =N7+O7+R7 -> 1581.8712 | T7: =IF(Foglio1!$G$5=35,'KA07'!J7,0) -> 1129.4701 | U7: =IF(Foglio1!$G$5=35,'KA07'!K7,0) -> 970.01099
T8: =SUM(T2:T7) -> 1129.4701 | U8: =SUM(U2:U7) -> 970.01099
I23: DOCENTI SCUOLA SECONDARIA I GRADO KA07
I26: =IF(Foglio1!A3='KA07'!I23,1,0) -> 0 | J26: =T8*I26 -> 0 | K26: =U8*I26 -> 0

Sheet KA08
B1: 2019 | C1: 2020 | D1: 2021 | E1: 2022 | F1: AP | G1: AC | H1: PREV | I1: PREV | J1: IMP | K1: IMP | L1: MEDIA | M1: MAX | N1: MEDIA | O1: MAX | P1: RPD | Q1: IMP | R1: NETTO | S1: NETTISSIMO | T1: MEIDA | U1: MAX
A2: KA08 | B2: 16.9 | C2: 31.1 | D2: 69 | E2: =D2 -> 69 | F2: =(B2+C2+D2)*13-7.65*3-12.75*33 -> 1077.3 | G2: =E2*13-12.75*13 -> 731.25 | H2: =F2*11.15% -> 120.11895 | I2: =G2*11.15% -> 81.534375 | J2: =F2-H2 -> 957.18105 | K2: =G2-I2 -> 649.71563 | L2: 24 | M2: 25 | N2: =J2*(100-L2)/100 -> 727.4576 | O2: =K2*(100-M2)/100 -> 487.28672 | P2: =10*12 -> 120 | Q2: =P2*(100-9.15)/100 -> 109.02 | R2: =Q2*(100-M2)/100 -> 81.765 | S2: =N2+O2+R2 -> 1296.5093 | T2: =IF(Foglio1!$G$5=0,'KA08'!J2,0) -> 0 | U2: =IF(Foglio1!$G$5=0,'KA08'!K2,0) -> 0
A3: 9 | B3: 19.4 | C3: 35.7 | D3: 79 | E3: =D3 -> 79 | F3: =(B3+C3+D3)*13-8.77*3-14.61*33 -> 1234.86 | G3: =E3*13-14.61*13 -> 837.07 | H3: =F3*11.15% -> 137.68689 | I3: =G3*11.15% -> 93.333305 | J3: =F3-H3 -> 1097.1731 | K3: =G3-I3 -> 743.73669 | L3: 24 | M3: 25 | N3: =J3*(100-L3)/100 -> 833.85156 | O3: =K3*(100-M3)/100 -> 557.80252 | P3: =10*12 -> 120 | Q3: =P3*(100-9.15)/100 -> 109.02 | R3: =Q3*(100-M3)/100 -> 81.765 | S3: =N3+O3+R3 -> 1473.4191 | T3: =IF(Foglio1!$G$5=9,'KA08'!J3,0) -> 0 | U3: =IF(Foglio1!$G$5=9,'KA08'!K3,0) -> 0
A4: 15 | B4: 21.3 | C4: 39.2 | D4: 87 | E4: =D4 -> 87 | F4: =(B4+C4+D4)*13-9.62*3-16.03*33 -> 1359.65 | G4: =E4*13-16.33*13 -> 918.71 | H4: =F4*11.15% -> 151.60098 | I4: =G4*11.15% -> 102.43617 | J4: =F4-H4 -> 1208.049 | K4: =G4-I4 -> 816.27384 | L4: 24 | M4: 25 | N4: =J4*(100-L4)/100 -> 918.11726 | O4: =K4*(100-M4)/100 -> 612.20538 | P4: =12*12 -> 144 | Q4: =P4*(100-9.15)/100 -> 130.824 | R4: =Q4*(100-M4)/100 -> 98.118 | S4: =N4+O4+R4 -> 1628.4406 | T4: =IF(Foglio1!$G$5=15,'KA08'!J4,0) -> 0 | U4: =IF(Foglio1!$G$5=15,'KA08'!K4,0) -> 0
A5: 21 | B5: 23.7 | C5: 43.6 | D5: 97 | E5: 91 | F5: =(B5+C5+D5)*13-10.7*3-17.83*33 -> 1515.41 | G5: =E5*13-17.83*13 -> 951.21 | H5: =F5*11.15% -> 168.96822 | I5: =G5*11.15% -> 106.05992 | J5: =F5-H5 -> 1346.4418 | K5: =G5-I5 -> 845.15008 | L5: 25.18 | M5: 35 | N5: =J5*(100-L5)/100 -> 1007.4077 | O5: =K5*(100-M5)/100 -> 549.34756 | P5: =12*12 -> 144 | Q5: =P5*(100-9.15)/100 -> 130.824 | R5: =Q5*(100-M5)/100 -> 85.0356 | S5: =N5+O5+R5 -> 1641.7909 | T5: =IF(Foglio1!$G$5=21,'KA08'!J5,0) -> 0 | U5: =IF(Foglio1!$G$5=21,'KA08'!K5,0) -> 0
A6: 28 | B6: 25.2 | C6: 46.5 | D6: 103 | E6: 98 | F6: =(B6+C6+D6)*13-11.41*3-19.02*33 -> 1609.21 | G6: =E6*13-17.02*13 -> 1052.74 | H6: =F6*11.15% -> 179.42692 | I6: =G6*11.15% -> 117.38051 | J6: =F6-H6 -> 1429.7831 | K6: =G6-I6 -> 935.35949 | L6: 25.18 | M6: 35 | N6: =J6*(100-L6)/100 -> 1069.7637 | O6: =K6*(100-M6)/100 -> 607.98367 | P6: =15*12 -> 180 | Q6: =P6*(100-9.15)/100 -> 163.53 | R6: =Q6*(100-M6)/100 -> 106.2945 | S6: =N6+O6+R6 -> 1784.0419 | T6: =IF(Foglio1!$G$5=28,'KA08'!J6,0) -> 0 | U6: =IF(Foglio1!$G$5=28,'KA08'!K6,0) -> 0
A7: 35 | B7: 26.5 | C7: 48.8 | D7: 108 | E7: 103 | F7: =(B7+C7+D7)*13-11.97*3-19.96*33 -> 1688.31 | G7: =E7*13-19.96*13 -> 1079.52 | H7: =F7*11.15% -> 188.24657 | I7: =G7*11.15% -> 120.36648 | J7: =F7-H7 -> 1500.0634 | K7: =G7-I7 -> 959.15352 | L7: 25.18 | M7: 35 | N7: =J7*(100-L7)/100 -> 1122.3475 | O7: =K7*(100-M7)/100 -> 623.44979 | P7: =15*12 -> 180 | Q7: =P7*(100-9.15)/100 -> 163.53 | R7: =Q7*(100-M7)/100 -> 106.2945 | S7: =N7+O7+R7 -> 1852.0918 | T7: =IF(Foglio1!$G$5=35,'KA08'!J7,0) -> 1500.0634 | U7: =IF(Foglio1!$G$5=35,'KA08'!K7,0) -> 959.15352
T8: =SUM(T2:T7) -> 1500.0634 | U8: =SUM(U2:U7) -> 959.15352
I23: DOCENTI SCUOLA SECONDARIA II GRADO KA08
I26: =IF(Foglio1!A3='KA08'!I23,1,0) -> 0 | J26: =T8*I26 -> 0 | K26: =U8*I26 -> 0
